Workbook
Name _Hlk77757077: AddlQuestions!#REF!

Sheet Coversheet
B5: OPEI
B6: Standard Name
B12: Recipient Name
B13: Federal Award Identification Number
B14: Report | D14: Initial Report | E14: Mid-Year Report | F14: Annual Report | G14: Date Received | I14: OPEI | J14: Standard Name | K14: FY | L14: Entity Name | M14: Report Type | N14: Report Date | O14: Coversheet Data | P14: Coversheet Responses
B15: Date Completed
I16: =$D$5 -> 0 | J16: =$D$6 -> 0 | K16: =$H$15 -> 0 | L16: ='Coversheet'!$D$12 -> 0 | M16: =$D$14 -> Initial Report | N16: =$D$15 -> 0 | O16: PI | P16: =D24 -> 0
I17: =$D$5 -> 0 | J17: =$D$6 -> 0 | K17: =$H$15 -> 0 | L17: ='Coversheet'!$D$12 -> 0 | M17: =$E$14 -> Mid-Year Report | N17: =$E$15 -> 0 | O17: PI Email | P17: =D25 -> 0
B18: Project Period Start Date | I18: =$D$5 -> 0 | J18: =$D$6 -> 0 | K18: =$H$15 -> 0 | L18: ='Coversheet'!$D$12 -> 0 | M18: =$F$14 -> Annual Report | N18: =$F$15 -> 0 | O18: PI Phone | P18: =D26 -> 0
B19: Project End Date
B20: Budget Period Start Date
B21: Budget Period End Date
B24: Principal Investigator (PI)
B25: PI Email
B26: PI Phone
B28: *Note any necessary changes to PI information above should be communicated as described in your NOA.

Sheet AllData
A1: OPEI | B1: Standard Name | C1: FY | D1: Entity Name | E1: Report Type | F1: Report Date | G1: Coversheet Data | H1: Coversheet Responses | I1: PE 1 | J1: PE 2 | K1: PE 3 | L1: PE 4 | M1: PE 5 | N1: PE 6 | O1: PE 7 | P1: PE 8 | Q1: PE 9 | R1: PE 10 | S1: PE 11 | T1: PE 12 | U1: PE 13 | V1: PE 14 | W1: PE 15 | X1: PE 16 | Y1: PE 17 | Z1: PE 18 | AA1: PE 19 | AB1: MY PE 1 | AC1: MY PE 2 | AD1: MY PE 3 | AE1: MY PE 4 | AF1: MY PE 5 | AG1: MY PE 6 | AH1: MY PE 7 | AI1: MY PE 8 | AJ1: MY PE 9 | AK1: MY PE 10 | AL1: MY PE 11 | AM1: MY PE 12 | AN1: MY PE 13 | AO1: MY PE 14 | AP1: MY PE 15 | AQ1: MY PE 16 | AR1: MY PE 17 | AS1: MY PE 18 | AT1: MY PE 19 | AU1: Annual PE 1 | AV1: Annual PE 2 | AW1: Annual PE 3 | AX1: Annual PE 4 | AY1: Annual PE 5 | AZ1: Annual PE 6 | BA1: Annual PE 7 | BB1: Annual PE 8 | BC1: Annual PE 9 | BD1: Annual PE 10 | BE1: Annual PE 11 | BF1: Annual PE 12 | BG1: Annual PE 13 | BH1: Annual PE 14 | BI1: Annual PE 15 | BJ1: Annual PE 16 | BK1: Annual PE 17 | BL1: Annual PE 18 | BM1: Annual PE 19 | BN1: Funding FY | BO1: Submission Received | BP1: Submission Type | BQ1: Planned Start | BR1: Planned End | BS1: Description | BT1: FDA Reviewer | BU1: Date Reviewed | BV1: Committee Reviewed | BW1: Committee approver | BX1: Mid-Year New Start | BY1: Mid-Year New End | BZ1: Mid-Year Status | CA1: Mid-Year Percent | CB1: Mid-Year Progress Narrative | CC1: Mid-Year Changes to PE Links | CD1: Annual New Start | CE1: Annual New End | CF1: Annual Status | CG1: Annual Percent | CH1: Annual Progress Narrative | CI1: Annual Changes to PE Links | CJ1: Action Item | CK1: Performance Element ID | CL1: Performance Element Description | CM1: Order | CN1: AddlQuestions | CO1: Mid-Year AddlQuestion Response | CP1: Annual AddlQuestionResponse | CQ1: AddlQuestion Category | CR1: Name | CS1: Title | CT1: Project Role | CU1: Months Effort | CV1: Months Funded | CW1: Personnel Changes | CX1: Explanation
A3: 0 | B3: 0 | C3: 0 | D3: 0 | E3: Initial Report | F3: 0 | G3: PI | H3: 0
A4: 0 | B4: 0 | C4: 0 | D4: 0 | E4: Mid-Year Report | F4: 0 | G4: PI Email | H4: 0
A5: 0 | B5: 0 | C5: 0 | D5: 0 | E5: Annual Report | F5: 0 | G5: PI Phone | H5: 0
A8: 0 | B8: 0 | D8: 0 | I8: 0 | J8: 0 | K8: 0 | L8: 0 | M8: 0 | N8: 0 | O8: 0 | P8: 0 | Q8: 0 | R8: 0 | S8: 0 | T8: 0 | U8: 0 | V8: 0 | W8: 0 | X8: 0 | Y8: 0 | Z8: 0 | AA8: 0 | AB8: 0 | AC8: 0 | AD8: 0 | AE8: 0 | AF8: 0 | AG8: 0 | AH8: 0 | AI8: 0 | AJ8: 0 | AK8: 0 | AL8: 0 | AM8: 0 | AN8: 0 | AO8: 0 | AP8: 0 | AQ8: 0 | AR8: 0 | AS8: 0 | AT8: 0 | AU8: 0 | AV8: 0 | AW8: 0 | AX8: 0 | AY8: 0 | AZ8: 0 | BA8: 0 | BB8: 0 | BC8: 0 | BD8: 0 | BE8: 0 | BF8: 0 | BG8: 0 | BH8: 0 | BI8: 0 | BJ8: 0 | BK8: 0 | BL8: 0 | BM8: 0 | BN8: 0 | BO8: 0 | BP8: 0 | BQ8: 0 | BR8: 0 | BS8: 0 | BT8: null | BV8: null | BW8: null | BX8: 0 | BY8: 0 | BZ8: Select | CA8: Select | CB8: 0 | CC8: 0 | CD8: 0 | CE8: 0 | CF8: Select | CG8: Select | CH8: [If this Plan of Action was reported as complete at your Mid-Year Report and no additional updates are needed please skip the Annual Report Response Section. Otherwise, complete the Annual Report Response section and replace this bracketed text with your Progress Report] | CI8: 0 | CJ8: 1
A9: 0 | B9: 0 | D9: 0 | BN9: 0 | BO9: 0 | BP9: 0 | CJ9: 1
A10: 0 | B10: 0 | D10: 0 | BN10: 0 | BO10: 0 | BP10: 0 | CJ10: 1
A16: 0 | B16: 0 | D16: 0 | I16: 0 | J16: 0 | K16: 0 | L16: 0 | M16: 0 | N16: 0 | O16: 0 | P16: 0 | Q16: 0 | R16: 0 | S16: 0 | T16: 0 | U16: 0 | V16: 0 | W16: 0 | X16: 0 | Y16: 0 | Z16: 0 | AA16: 0 | AB16: 0 | AC16: 0 | AD16: 0 | AE16: 0 | AF16: 0 | AG16: 0 | AH16: 0 | AI16: 0 | AJ16: 0 | AK16: 0 | AL16: 0 | AM16: 0 | AN16: 0 | AO16: 0 | AP16: 0 | AQ16: 0 | AR16: 0 | AS16: 0 | AT16: 0 | AU16: 0 | AV16: 0 | AW16: 0 | AX16: 0 | AY16: 0 | AZ16: 0 | BA16: 0 | BB16: 0 | BC16: 0 | BD16: 0 | BE16: 0 | BF16: 0 | BG16: 0 | BH16: 0 | BI16: 0 | BJ16: 0 | BK16: 0 | BL16: 0 | BM16: 0 | BN16: 0 | BO16: 0 | BP16: 0 | BQ16: 0 | BR16: 0 | BS16: 0 | BT16: null | BV16: null | BW16: null | BX16: 0 | BY16: 0 | BZ16: Select | CA16: Select | CB16: 0 | CC16: 0 | CD16: 0 | CE16: 0 | CF16: Select | CG16: Select | CH16: [If this Plan of Action was reported as complete at your Mid-Year Report and no additional updates are needed please skip the Annual Report Response Section. Otherwise, complete the Annual Report Response section and replace this bracketed text with your Progress Report] | CI16: 0 | CJ16: 2
A17: 0 | B17: 0 | D17: 0 | BN17: 0 | BO17: 0 | BP17: 0 | CJ17: 2
A18: 0 | B18: 0 | D18: 0 | BN18: 0 | BO18: 0 | BP18: 0 | CJ18: 2
A24: 0 | B24: 0 | D24: 0 | I24: 0 | J24: 0 | K24: 0 | L24: 0 | M24: 0 | N24: 0 | O24: 0 | P24: 0 | Q24: 0 | R24: 0 | S24: 0 | T24: 0 | U24: 0 | V24: 0 | W24: 0 | X24: 0 | Y24: 0 | Z24: 0 | AA24: 0 | AB24: 0 | AC24: 0 | AD24: 0 | AE24: 0 | AF24: 0 | AG24: 0 | AH24: 0 | AI24: 0 | AJ24: 0 | AK24: 0 | AL24: 0 | AM24: 0 | AN24: 0 | AO24: 0 | AP24: 0 | AQ24: 0 | AR24: 0 | AS24: 0 | AT24: 0 | AU24: 0 | AV24: 0 | AW24: 0 | AX24: 0 | AY24: 0 | AZ24: 0 | BA24: 0 | BB24: 0 | BC24: 0 | BD24: 0 | BE24: 0 | BF24: 0 | BG24: 0 | BH24: 0 | BI24: 0 | BJ24: 0 | BK24: 0 | BL24: 0 | BM24: 0 | BN24: 0 | BO24: 0 | BP24: 0 | BQ24: 0 | BR24: 0 | BS24: 0 | BT24: null | BV24: null | BW24: null | BX24: 0 | BY24: 0 | BZ24: Select | CA24: Select | CB24: 0 | CC24: 0 | CD24: 0 | CE24: 0 | CF24: Select | CG24: Select | CH24: [If this Plan of Action was reported as complete at your Mid-Year Report and no additional updates are needed please skip the Annual Report Response Section. Otherwise, complete the Annual Report Response section and replace this bracketed text with your Progress Report] | CI24: 0 | CJ24: 3
A25: 0 | B25: 0 | D25: 0 | BN25: 0 | BO25: 0 | BP25: 0 | CJ25: 3
A26: 0 | B26: 0 | D26: 0 | BN26: 0 | BO26: 0 | BP26: 0 | CJ26: 3
A32: 0 | B32: 0 | D32: 0 | I32: 0 | J32: 0 | K32: 0 | L32: 0 | M32: 0 | N32: 0 | O32: 0 | P32: 0 | Q32: 0 | R32: 0 | S32: 0 | T32: 0 | U32: 0 | V32: 0 | W32: 0 | X32: 0 | Y32: 0 | Z32: 0 | AA32: 0 | AB32: 0 | AC32: 0 | AD32: 0 | AE32: 0 | AF32: 0 | AG32: 0 | AH32: 0 | AI32: 0 | AJ32: 0 | AK32: 0 | AL32: 0 | AM32: 0 | AN32: 0 | AO32: 0 | AP32: 0 | AQ32: 0 | AR32: 0 | AS32: 0 | AT32: 0 | AU32: 0 | AV32: 0 | AW32: 0 | AX32: 0 | AY32: 0 | AZ32: 0 | BA32: 0 | BB32: 0 | BC32: 0 | BD32: 0 | BE32: 0 | BF32: 0 | BG32: 0 | BH32: 0 | BI32: 0 | BJ32: 0 | BK32: 0 | BL32: 0 | BM32: 0 | BN32: 0 | BO32: 0 | BP32: 0 | BQ32: 0 | BR32: 0 | BS32: 0 | BT32: null | BV32: null | BW32: null | BX32: 0 | BY32: 0 | BZ32: Select | CA32: Select | CB32: 0 | CC32: 0 | CD32: 0 | CE32: 0 | CF32: Select | CG32: Select | CH32: [If this Plan of Action was reported as complete at your Mid-Year Report and no additional updates are needed please skip the Annual Report Response Section. Otherwise, complete the Annual Report Response section and replace this bracketed text with your Progress Report] | CI32: 0 | CJ32: 4
A33: 0 | B33: 0 | D33: 0 | BN33: 0 | BO33: 0 | BP33: 0 | CJ33: 4
A34: 0 | B34: 0 | D34: 0 | BN34: 0 | BO34: 0 | BP34: 0 | CJ34: 4
A40: 0 | B40: 0 | D40: 0 | I40: 0 | J40: 0 | K40: 0 | L40: 0 | M40: 0 | N40: 0 | O40: 0 | P40: 0 | Q40: 0 | R40: 0 | S40: 0 | T40: 0 | U40: 0 | V40: 0 | W40: 0 | X40: 0 | Y40: 0 | Z40: 0 | AA40: 0 | AB40: 0 | AC40: 0 | AD40: 0 | AE40: 0 | AF40: 0 | AG40: 0 | AH40: 0 | AI40: 0 | AJ40: 0 | AK40: 0 | AL40: 0 | AM40: 0 | AN40: 0 | AO40: 0 | AP40: 0 | AQ40: 0 | AR40: 0 | AS40: 0 | AT40: 0 | AU40: 0 | AV40: 0 | AW40: 0 | AX40: 0 | AY40: 0 | AZ40: 0 | BA40: 0 | BB40: 0 | BC40: 0 | BD40: 0 | BE40: 0 | BF40: 0 | BG40: 0 | BH40: 0 | BI40: 0 | BJ40: 0 | BK40: 0 | BL40: 0 | BM40: 0 | BN40: 0 | BO40: 0 | BP40: 0 | BQ40: 0 | BR40: 0 | BS40: 0 | BT40: null | BV40: null | BW40: null | BX40: 0 | BY40: 0 | BZ40: Select | CA40: Select | CB40: 0 | CC40: 0 | CD40: 0 | CE40: 0 | CF40: Select | CG40: Select | CH40: [If this Plan of Action was reported as complete at your Mid-Year Report and no additional updates are needed please skip the Annual Report Response Section. Otherwise, complete the Annual Report Response section and replace this bracketed text with your Progress Report] | CI40: 0 | CJ40: 5
A41: 0 | B41: 0 | D41: 0 | BN41: 0 | BO41: 0 | BP41: 0 | CJ41: 5
A42: 0 | B42: 0 | D42: 0 | BN42: 0 | BO42: 0 | BP42: 0 | CJ42: 5
A48: 0 | B48: 0 | D48: 0 | I48: 0 | J48: 0 | K48: 0 | L48: 0 | M48: 0 | N48: 0 | O48: 0 | P48: 0 | Q48: 0 | R48: 0 | S48: 0 | T48: 0 | U48: 0 | V48: 0 | W48: 0 | X48: 0 | Y48: 0 | Z48: 0 | AA48: 0 | AB48: 0 | AC48: 0 | AD48: 0 | AE48: 0 | AF48: 0 | AG48: 0 | AH48: 0 | AI48: 0 | AJ48: 0 | AK48: 0 | AL48: 0 | AM48: 0 | AN48: 0 | AO48: 0 | AP48: 0 | AQ48: 0 | AR48: 0 | AS48: 0 | AT48: 0 | AU48: 0 | AV48: 0 | AW48: 0 | AX48: 0 | AY48: 0 | AZ48: 0 | BA48: 0 | BB48: 0 | BC48: 0 | BD48: 0 | BE48: 0 | BF48: 0 | BG48: 0 | BH48: 0 | BI48: 0 | BJ48: 0 | BK48: 0 | BL48: 0 | BM48: 0 | BN48: 0 | BO48: 0 | BP48: 0 | BQ48: 0 | BR48: 0 | BS48: 0 | BT48: null | BV48: null | BW48: null | BX48: 0 | BY48: 0 | BZ48: Select | CA48: Select | CB48: 0 | CC48: 0 | CD48: 0 | CE48: 0 | CF48: Select | CG48: Select | CH48: [If this Plan of Action was reported as complete at your Mid-Year Report and no additional updates are needed please skip the Annual Report Response Section. Otherwise, complete the Annual Report Response section and replace this bracketed text with your Progress Report] | CI48: 0 | CJ48: 6
A49: 0 | B49: 0 | D49: 0 | BN49: 0 | BO49: 0 | BP49: 0 | CJ49: 6
A50: 0 | B50: 0 | D50: 0 | BN50: 0 | BO50: 0 | BP50: 0 | CJ50: 6
A56: 0 | B56: 0 | D56: 0 | I56: 0 | J56: 0 | K56: 0 | L56: 0 | M56: 0 | N56: 0 | O56: 0 | P56: 0 | Q56: 0 | R56: 0 | S56: 0 | T56: 0 | U56: 0 | V56: 0 | W56: 0 | X56: 0 | Y56: 0 | Z56: 0 | AA56: 0 | AB56: 0 | AC56: 0 | AD56: 0 | AE56: 0 | AF56: 0 | AG56: 0 | AH56: 0 | AI56: 0 | AJ56: 0 | AK56: 0 | AL56: 0 | AM56: 0 | AN56: 0 | AO56: 0 | AP56: 0 | AQ56: 0 | AR56: 0 | AS56: 0 | AT56: 0 | AU56: 0 | AV56: 0 | AW56: 0 | AX56: 0 | AY56: 0 | AZ56: 0 | BA56: 0 | BB56: 0 | BC56: 0 | BD56: 0 | BE56: 0 | BF56: 0 | BG56: 0 | BH56: 0 | BI56: 0 | BJ56: 0 | BK56: 0 | BL56: 0 | BM56: 0 | BN56: 0 | BO56: 0 | BP56: 0 | BQ56: 0 | BR56: 0 | BS56: 0 | BT56: null | BV56: null | BW56: null | BX56: 0 | BY56: 0 | BZ56: Select | CA56: Select | CB56: 0 | CC56: 0 | CD56: 0 | CE56: 0 | CF56: Select | CG56: Select | CH56: [If this Plan of Action was reported as complete at your Mid-Year Report and no additional updates are needed please skip the Annual Report Response Section. Otherwise, complete the Annual Report Response section and replace this bracketed text with your Progress Report] | CI56: 0 | CJ56: 7
A57: 0 | B57: 0 | D57: 0 | BN57: 0 | BO57: 0 | BP57: 0 | CJ57: 7
A58: 0 | B58: 0 | D58: 0 | BN58: 0 | BO58: 0 | BP58: 0 | CJ58: 7
A64: 0 | B64: 0 | D64: 0 | I64: 0 | J64: 0 | K64: 0 | L64: 0 | M64: 0 | N64: 0 | O64: 0 | P64: 0 | Q64: 0 | R64: 0 | S64: 0 | T64: 0 | U64: 0 | V64: 0 | W64: 0 | X64: 0 | Y64: 0 | Z64: 0 | AA64: 0 | AB64: 0 | AC64: 0 | AD64: 0 | AE64: 0 | AF64: 0 | AG64: 0 | AH64: 0 | AI64: 0 | AJ64: 0 | AK64: 0 | AL64: 0 | AM64: 0 | AN64: 0 | AO64: 0 | AP64: 0 | AQ64: 0 | AR64: 0 | AS64: 0 | AT64: 0 | AU64: 0 | AV64: 0 | AW64: 0 | AX64: 0 | AY64: 0 | AZ64: 0 | BA64: 0 | BB64: 0 | BC64: 0 | BD64: 0 | BE64: 0 | BF64: 0 | BG64: 0 | BH64: 0 | BI64: 0 | BJ64: 0 | BK64: 0 | BL64: 0 | BM64: 0 | BN64: 0 | BO64: 0 | BP64: 0 | BQ64: 0 | BR64: 0 | BS64: 0 | BT64: null | BV64: null | BW64: null | BX64: 0 | BY64: 0 | BZ64: Select | CA64: Select | CB64: 0 | CC64: 0 | CD64: 0 | CE64: 0 | CF64: Select | CG64: Select | CH64: [If this Plan of Action was reported as complete at your Mid-Year Report and no additional updates are needed please skip the Annual Report Response Section. Otherwise, complete the Annual Report Response section and replace this bracketed text with your Progress Report] | CI64: 0 | CJ64: 8
A65: 0 | B65: 0 | D65: 0 | BN65: 0 | BO65: 0 | BP65: 0 | CJ65: 8
A66: 0 | B66: 0 | D66: 0 | BN66: 0 | BO66: 0 | BP66: 0 | CJ66: 8
A72: 0 | B72: 0 | D72: 0 | I72: 0 | J72: 0 | K72: 0 | L72: 0 | M72: 0 | N72: 0 | O72: 0 | P72: 0 | Q72: 0 | R72: 0 | S72: 0 | T72: 0 | U72: 0 | V72: 0 | W72: 0 | X72: 0 | Y72: 0 | Z72: 0 | AA72: 0 | AB72: 0 | AC72: 0 | AD72: 0 | AE72: 0 | AF72: 0 | AG72: 0 | AH72: 0 | AI72: 0 | AJ72: 0 | AK72: 0 | AL72: 0 | AM72: 0 | AN72: 0 | AO72: 0 | AP72: 0 | AQ72: 0 | AR72: 0 | AS72: 0 | AT72: 0 | AU72: 0 | AV72: 0 | AW72: 0 | AX72: 0 | AY72: 0 | AZ72: 0 | BA72: 0 | BB72: 0 | BC72: 0 | BD72: 0 | BE72: 0 | BF72: 0 | BG72: 0 | BH72: 0 | BI72: 0 | BJ72: 0 | BK72: 0 | BL72: 0 | BM72: 0 | BN72: 0 | BO72: 0 | BP72: 0 | BQ72: 0 | BR72: 0 | BS72: 0 | BT72: null | BV72: null | BW72: null | BX72: 0 | BY72: 0 | BZ72: Select | CA72: Select | CB72: 0 | CC72: 0 | CD72: 0 | CE72: 0 | CF72: Select | CG72: Select | CH72: [If this Plan of Action was reported as complete at your Mid-Year Report and no additional updates are needed please skip the Annual Report Response Section. Otherwise, complete the Annual Report Response section and replace this bracketed text with your Progress Report] | CI72: 0 | CJ72: 9
A73: 0 | B73: 0 | D73: 0 | BN73: 0 | BO73: 0 | BP73: 0 | CJ73: 9
A74: 0 | B74: 0 | D74: 0 | BN74: 0 | BO74: 0 | BP74: 0 | CJ74: 9
A80: 0 | B80: 0 | D80: 0 | I80: 0 | J80: 0 | K80: 0 | L80: 0 | M80: 0 | N80: 0 | O80: 0 | P80: 0 | Q80: 0 | R80: 0 | S80: 0 | T80: 0 | U80: 0 | V80: 0 | W80: 0 | X80: 0 | Y80: 0 | Z80: 0 | AA80: 0 | AB80: 0 | AC80: 0 | AD80: 0 | AE80: 0 | AF80: 0 | AG80: 0 | AH80: 0 | AI80: 0 | AJ80: 0 | AK80: 0 | AL80: 0 | AM80: 0 | AN80: 0 | AO80: 0 | AP80: 0 | AQ80: 0 | AR80: 0 | AS80: 0 | AT80: 0 | AU80: 0 | AV80: 0 | AW80: 0 | AX80: 0 | AY80: 0 | AZ80: 0 | BA80: 0 | BB80: 0 | BC80: 0 | BD80: 0 | BE80: 0 | BF80: 0 | BG80: 0 | BH80: 0 | BI80: 0 | BJ80: 0 | BK80: 0 | BL80: 0 | BM80: 0 | BN80: 0 | BO80: 0 | BP80: 0 | BQ80: 0 | BR80: 0 | BS80: 0 | BT80: null | BV80: null | BW80: null | BX80: 0 | BY80: 0 | BZ80: Select | CA80: Select | CB80: 0 | CC80: 0 | CD80: 0 | CE80: 0 | CF80: Select | CG80: Select | CH80: [If this Plan of Action was reported as complete at your Mid-Year Report and no additional updates are needed please skip the Annual Report Response Section. Otherwise, complete the Annual Report Response section and replace this bracketed text with your Progress Report] | CI80: 0 | CJ80: 10
A81: 0 | B81: 0 | D81: 0 | BN81: 0 | BO81: 0 | BP81: 0 | CJ81: 10
A82: 0 | B82: 0 | D82: 0 | BN82: 0 | BO82: 0 | BP82: 0 | CJ82: 10
A88: 0 | B88: 0 | D88: 0 | I88: 0 | J88: 0 | K88: 0 | L88: 0 | M88: 0 | N88: 0 | O88: 0 | P88: 0 | Q88: 0 | R88: 0 | S88: 0 | T88: 0 | U88: 0 | V88: 0 | W88: 0 | X88: 0 | Y88: 0 | Z88: 0 | AA88: 0 | AB88: 0 | AC88: 0 | AD88: 0 | AE88: 0 | AF88: 0 | AG88: 0 | AH88: 0 | AI88: 0 | AJ88: 0 | AK88: 0 | AL88: 0 | AM88: 0 | AN88: 0 | AO88: 0 | AP88: 0 | AQ88: 0 | AR88: 0 | AS88: 0 | AT88: 0 | AU88: 0 | AV88: 0 | AW88: 0 | AX88: 0 | AY88: 0 | AZ88: 0 | BA88: 0 | BB88: 0 | BC88: 0 | BD88: 0 | BE88: 0 | BF88: 0 | BG88: 0 | BH88: 0 | BI88: 0 | BJ88: 0 | BK88: 0 | BL88: 0 | BM88: 0 | BN88: 0 | BO88: 0 | BP88: 0 | BQ88: 0 | BR88: 0 | BS88: 0 | BT88: null | BV88: null | BW88: null | BX88: 0 | BY88: 0 | BZ88: Select | CA88: Select | CB88: 0 | CC88: 0 | CD88: 0 | CE88: 0 | CF88: Select | CG88: Select | CH88: [If this Plan of Action was reported as complete at your Mid-Year Report and no additional updates are needed please skip the Annual Report Response Section. Otherwise, complete the Annual Report Response section and replace this bracketed text with your Progress Report] | CI88: 0 | CJ88: 11
A89: 0 | B89: 0 | D89: 0 | BN89: 0 | BO89: 0 | BP89: 0 | CJ89: 11
A90: 0 | B90: 0 | D90: 0 | BN90: 0 | BO90: 0 | BP90: 0 | CJ90: 11
A96: 0 | B96: 0 | D96: 0 | I96: 0 | J96: 0 | K96: 0 | L96: 0 | M96: 0 | N96: 0 | O96: 0 | P96: 0 | Q96: 0 | R96: 0 | S96: 0 | T96: 0 | U96: 0 | V96: 0 | W96: 0 | X96: 0 | Y96: 0 | Z96: 0 | AA96: 0 | AB96: 0 | AC96: 0 | AD96: 0 | AE96: 0 | AF96: 0 | AG96: 0 | AH96: 0 | AI96: 0 | AJ96: 0 | AK96: 0 | AL96: 0 | AM96: 0 | AN96: 0 | AO96: 0 | AP96: 0 | AQ96: 0 | AR96: 0 | AS96: 0 | AT96: 0 | AU96: 0 | AV96: 0 | AW96: 0 | AX96: 0 | AY96: 0 | AZ96: 0 | BA96: 0 | BB96: 0 | BC96: 0 | BD96: 0 | BE96: 0 | BF96: 0 | BG96: 0 | BH96: 0 | BI96: 0 | BJ96: 0 | BK96: 0 | BL96: 0 | BM96: 0 | BN96: 0 | BO96: 0 | BP96: 0 | BQ96: 0 | BR96: 0 | BS96: 0 | BT96: null | BV96: null | BW96: null | BX96: 0 | BY96: 0 | BZ96: Select | CA96: Select | CB96: 0 | CC96: 0 | CD96: 0 | CE96: 0 | CF96: Select | CG96: Select | CH96: [If this Plan of Action was reported as complete at your Mid-Year Report and no additional updates are needed please skip the Annual Report Response Section. Otherwise, complete the Annual Report Response section and replace this bracketed text with your Progress Report] | CI96: 0 | CJ96: 12
A97: 0 | B97: 0 | D97: 0 | BN97: 0 | BO97: 0 | BP97: 0 | CJ97: 12
A98: 0 | B98: 0 | D98: 0 | BN98: 0 | BO98: 0 | BP98: 0 | CJ98: 12
...

Sheet ProgressNarrative
B7: Fiscal Year:
B31: Initial Report Response | F31: Mid-Year Report Response | O31: Annual Report Response | X31: Performance Elements | Y31: IR Objective 1 | Z31: IR Objective 2 | AA31: IR Objective 3 | AB31: IR Objective 4 | AC31: IR Objective 5 | AE31: IR Objective 6 | AK31: IR NOA Reporting Element 1 | AL31: IR NOA Reporting Element 2 | AM31: IR NOA Reporting Element 3 | AO31: IR NOA Reporting Element 4 | AP31: IR NOA Reporting Element 5 | AQ31: IR NOA Reporting Element 6 | AU31: PE 1 | AV31: PE 2 | AW31: PE 3 | AX31: PE 4 | AY31: PE 5 | AZ31: PE 6 | BA31: PE 7 | BB31: PE 8 | BC31: PE 9 | BD31: PE 10 | BE31: PE 11 | BF31: PE 12 | BG31: PE 13 | BH31: PE 14 | BI31: PE 15 | BJ31: PE 16 | BK31: PE 17 | BL31: PE 18 | BM31: PE 19 | BN31: MY PE 1 | BO31: MY PE 2 | BP31: MY PE 3 | BQ31: MY PE 4 | BR31: MY PE 5 | BS31: MY PE 6 | BT31: MY PE 7 | BU31: MY PE 8 | BV31: MY PE 9 | BW31: MY PE 10 | BX31: MY PE 11 | BY31: MY PE 12 | BZ31: MY PE 13 | CA31: MY PE 14 | CB31: MY PE 15 | CC31: MY PE 16 | CD31: MY PE 17 | CE31: MY PE 18 | CF31: MY PE 19 | CG31: Annual PE 1 | CH31: Annual PE 2 | CI31: Annual PE 3 | CJ31: Annual PE 4 | CK31: Annual PE 5 | CL31: Annual PE 6 | CM31: Annual PE 7 | CN31: Annual PE 8 | CO31: Annual PE 9 | CP31: Annual PE 10 | CQ31: Annual PE 11 | CR31: Annual PE 12 | CS31: Annual PE 13 | CT31: Annual PE 14 | CU31: Annual PE 15 | CV31: Annual PE 16 | CW31: Annual PE 17 | CX31: Annual PE 18 | CY31: Annual PE 19 | CZ31: OPEI | DA31: Standard Name | DB31: Funding FY | DC31: Submission Received | DD31: Submission Type | DE31: Entity Name | DF31: Planned Start | DG31: Planned End | DH31: Description | DI31: FDA Reviewer | DJ31: Date Reviewed | DK31: Committee Reviewed | DL31: Committee approver | DM31: Mid-Year New Start | DN31: Mid-Year New End | DO31: Mid-Year Status | DP31: Mid-Year Percent | DQ31: Mid-Year Progress Narrative | DR31: Mid-Year Changes to PE Links | DS31: Annual New Start | DT31: Annual New End | DU31: Annual Status | DV31: Annual Percent | DW31: Annual Progress Narrative | DX31: Annual Changes to PE Links | DY31: Action Item | DZ31: Performance Element ID | EA31: Performance Element Description | EB31: Order
M32: IF changes are made to the performance element impacts for this action item (in the table to the far right) please explain below. Otherwise leave blank. | V32: IF changes are made to the performance element impacts (in the table to the right) for this action item please explain below. Otherwise leave blank.
B33: Action Item 1: | F33: Action Item 1: | O33: Action Item 1: | X33: Action Item 1: | Y33: Objective 1 | Z33: Objective 1a | AA33: Objective 1b | AB33: Objective 1c | AC33: Objective 1d | AD33: Objective 1e | AE33: Objective 2 | AF33: Objective 3 | AG33: Objective 4 | AH33: Objective 5 | AI33: Objective 6 | AJ33: Objective 11 | AK33: NOA Reporting Element 1 | AL33: NOA Reporting Element 2 | AM33: NOA Reporting Element 3 | AN33: NOA Reporting Element 4 | AO33: NOA Reporting Element 5 | AP33: NOA Reporting Element 6 | AQ33: NOA Reporting Element 7 | AR33: NOA Reporting Element 8 | AS33: NOA Reporting Element 9
B34: Planned Start Date | F34: Actual Start Date | I34: Action Item Status | K34: Select | O34: Actual Start Date | R34: Action Item Status | T34: Select | X34: Impacts at Initial Report | AU34: =Y34 -> 0 | AV34: =Z34 -> 0 | AW34: =AA34 -> 0 | AX34: =AB34 -> 0 | AY34: =AC34 -> 0 | AZ34: =AE34 -> 0 | BA34: =AF34 -> 0 | BB34: =AG34 -> 0 | BC34: =AH34 -> 0 | BD34: =AI34 -> 0 | BE34: =AJ34 -> 0 | BF34: =AK34 -> 0 | BG34: =AL34 -> 0 | BH34: =AM34 -> 0 | BI34: =AO34 -> 0 | BJ34: =AP34 -> 0 | BK34: =AQ34 -> 0 | BL34: =AR34 -> 0 | BM34: =AS34 -> 0 | BN34: =Y35 -> 0 | BO34: =Z35 -> 0 | BP34: =AA35 -> 0 | BQ34: =AB35 -> 0 | BR34: =AC35 -> 0 | BS34: =AE35 -> 0 | BT34: =AF35 -> 0 | BU34: =AG35 -> 0 | BV34: =AH35 -> 0 | BW34: =AI35 -> 0 | BX34: =AJ35 -> 0 | BY34: =AK35 -> 0 | BZ34: =AL35 -> 0 | CA34: =AM35 -> 0 | CB34: =AO35 -> 0 | CC34: =AP35 -> 0 | CD34: =AQ35 -> 0 | CE34: =AR35 -> 0 | CF34: =AS35 -> 0 | CG34: =Y36 -> 0 | CH34: =Z36 -> 0 | CI34: =AA36 -> 0 | CJ34: =AB36 -> 0 | CK34: =AC36 -> 0 | CL34: =AE36 -> 0 | CM34: =AF36 -> 0 | CN34: =AG36 -> 0 | CO34: =AH36 -> 0 | CP34: =AI36 -> 0 | CQ34: =AJ36 -> 0 | CR34: =AK36 -> 0 | CS34: =AL36 -> 0 | CT34: =AM36 -> 0 | CU34: =AO36 -> 0 | CV34: =AP36 -> 0 | CW34: =AQ36 -> 0 | CX34: =AR36 -> 0 | CY34: =AS36 -> 0 | CZ34: ='Coversheet'!$D$5 -> 0 | DA34: ='Coversheet'!$D$6 -> 0 | DB34: ='Coversheet'!$H$15 -> 0 | DC34: ='Coversheet'!$G$15 -> 0 | DD34: ='Coversheet'!$G$16 -> 0 | DE34: ='Coversheet'!$D$12 -> 0 | DF34: =D34 -> 0 | DG34: =D35 -> 0 | DH34: =B37 -> 0 | DI34: null | DK34: null | DL34: null | DM34: =H34 -> 0 | DN34: =H35 -> 0 | DO34: =K34 -> Select | DP34: =L35 -> Select | DQ34: =F37 -> 0 | DR34: =M37 -> 0 | DS34: =Q34 -> 0 | DT34: =Q35 -> 0 | DU34: =T34 -> Select | DV34: =U35 -> Select | DW34: =O37 -> [If this Plan of Action was reported as complete at your Mid-Year Report and no additional updates are needed please skip the Annual Report Response Section. Otherwise, complete the Annual Report Response section and replace this bracketed text with your Progress Report] | DX34: =V37 -> 0 | DY34: 1
B35: Planned End Date | F35: Actual End Date | I35: Action Item Percent Complete | L35: Select | O35: Actual End Date | R35: Action Item Percent Complete | U35: Select | X35: Impacts at Mid-Year Report | CZ35: ='Coversheet'!$D$5 -> 0 | DA35: ='Coversheet'!$D$6 -> 0 | DB35: ='Coversheet'!$H$15 -> 0 | DC35: ='Coversheet'!$G$15 -> 0 | DD35: ='Coversheet'!$G$16 -> 0 | DE35: ='Coversheet'!$D$12 -> 0 | DY35: 1
B36: Planned Action Item Short Description | F36: Mid-Year Progress Report (Use Alt+Enter for new line if desired) | O36: Annual Progress Report (Use Alt+Enter for Actual line if desired) | X36: Impacts at Annual Report | CZ36: ='Coversheet'!$D$5 -> 0 | DA36: ='Coversheet'!$D$6 -> 0 | DB36: ='Coversheet'!$H$15 -> 0 | DC36: ='Coversheet'!$G$15 -> 0 | DD36: ='Coversheet'!$G$16 -> 0 | DE36: ='Coversheet'!$D$12 -> 0 | DY36: 1
O37: [If this Plan of Action was reported as complete at your Mid-Year Report and no additional updates are needed please skip the Annual Report Response Section. Otherwise, complete the Annual Report Response section and replace this bracketed text with your Progress Report]
B40: Initial Report Response | F40: Mid-Year Report Response | O40: Annual Report Response
B41: Action Item 2: | F41: Action Item 2: | M41: IF changes are made to the performance element impacts for this action item (in the table to the far right) please explain below. Otherwise leave blank. | O41: Action Item 2: | V41: IF changes are made to the performance element impacts (in the table to the right) for this action item please explain below. Otherwise leave blank. | X41: Action Item 2: | Y41: Objective 1 | Z41: Objective 1a | AA41: Objective 1b | AB41: Objective 1c | AC41: Objective 1d | AD41: Objective 1e | AE41: Objective 2 | AF41: Objective 3 | AG41: Objective 4 | AH41: Objective 5 | AI41: Objective 6 | AJ41: Objective 11 | AK41: NOA Reporting Element 1 | AL41: NOA Reporting Element 2 | AM41: NOA Reporting Element 3 | AN41: NOA Reporting Element 4 | AO41: NOA Reporting Element 5 | AP41: NOA Reporting Element 6 | AQ41: NOA Reporting Element 7 | AR41: NOA Reporting Element 8 | AS41: NOA Reporting Element 9
B42: Planned Start Date | F42: Actual Start Date | I42: Action Item Status | K42: Select | O42: Actual Start Date | R42: Action Item Status | T42: Select | X42: Impacts at Initial Report | AU42: =Y42 -> 0 | AV42: =Z42 -> 0 | AW42: =AA42 -> 0 | AX42: =AB42 -> 0 | AY42: =AC42 -> 0 | AZ42: =AE42 -> 0 | BA42: =AF42 -> 0 | BB42: =AG42 -> 0 | BC42: =AH42 -> 0 | BD42: =AI42 -> 0 | BE42: =AJ42 -> 0 | BF42: =AK42 -> 0 | BG42: =AL42 -> 0 | BH42: =AM42 -> 0 | BI42: =AO42 -> 0 | BJ42: =AP42 -> 0 | BK42: =AQ42 -> 0 | BL42: =AR42 -> 0 | BM42: =AS42 -> 0 | BN42: =Y43 -> 0 | BO42: =Z43 -> 0 | BP42: =AA43 -> 0 | BQ42: =AB43 -> 0 | BR42: =AC43 -> 0 | BS42: =AE43 -> 0 | BT42: =AF43 -> 0 | BU42: =AG43 -> 0 | BV42: =AH43 -> 0 | BW42: =AI43 -> 0 | BX42: =AJ43 -> 0 | BY42: =AK43 -> 0 | BZ42: =AL43 -> 0 | CA42: =AM43 -> 0 | CB42: =AO43 -> 0 | CC42: =AP43 -> 0 | CD42: =AQ43 -> 0 | CE42: =AR43 -> 0 | CF42: =AS43 -> 0 | CG42: =Y44 -> 0 | CH42: =Z44 -> 0 | CI42: =AA44 -> 0 | CJ42: =AB44 -> 0 | CK42: =AC44 -> 0 | CL42: =AE44 -> 0 | CM42: =AF44 -> 0 | CN42: =AG44 -> 0 | CO42: =AH44 -> 0 | CP42: =AI44 -> 0 | CQ42: =AJ44 -> 0 | CR42: =AK44 -> 0 | CS42: =AL44 -> 0 | CT42: =AM44 -> 0 | CU42: =AO44 -> 0 | CV42: =AP44 -> 0 | CW42: =AQ44 -> 0 | CX42: =AR44 -> 0 | CY42: =AS44 -> 0 | CZ42: ='Coversheet'!$D$5 -> 0 | DA42: ='Coversheet'!$D$6 -> 0 | DB42: ='Coversheet'!$H$15 -> 0 | DC42: ='Coversheet'!$G$15 -> 0 | DD42: ='Coversheet'!$G$16 -> 0 | DE42: ='Coversheet'!$D$12 -> 0 | DF42: =D42 -> 0 | DG42: =D43 -> 0 | DH42: =B45 -> 0 | DI42: null | DK42: null | DL42: null | DM42: =H42 -> 0 | DN42: =H43 -> 0 | DO42: =K42 -> Select | DP42: =L43 -> Select | DQ42: =F45 -> 0 | DR42: =M45 -> 0 | DS42: =Q42 -> 0 | DT42: =Q43 -> 0 | DU42: =T42 -> Select | DV42: =U43 -> Select | DW42: =O45 -> [If this Plan of Action was reported as complete at your Mid-Year Report and no additional updates are needed please skip the Annual Report Response Section. Otherwise, complete the Annual Report Response section and replace this bracketed text with your Progress Report] | DX42: =V45 -> 0 | DY42: 2
B43: Planned End Date | F43: Actual End Date | I43: Action Item Percent Complete | L43: Select | O43: Actual End Date | R43: Action Item Percent Complete | U43: Select | X43: Impacts at Mid-Year Report | CZ43: ='Coversheet'!$D$5 -> 0 | DA43: ='Coversheet'!$D$6 -> 0 | DB43: ='Coversheet'!$H$15 -> 0 | DC43: ='Coversheet'!$G$15 -> 0 | DD43: ='Coversheet'!$G$16 -> 0 | DE43: ='Coversheet'!$D$12 -> 0 | DY43: 2
B44: Planned Action Item Short Description | F44: Mid-Year Progress Report (Use Alt+Enter for new line if desired) | O44: Annual Progress Report (Use Alt+Enter for Actual line if desired) | X44: Impacts at Annual Report | CZ44: ='Coversheet'!$D$5 -> 0 | DA44: ='Coversheet'!$D$6 -> 0 | DB44: ='Coversheet'!$H$15 -> 0 | DC44: ='Coversheet'!$G$15 -> 0 | DD44: ='Coversheet'!$G$16 -> 0 | DE44: ='Coversheet'!$D$12 -> 0 | DY44: 2
O45: [If this Plan of Action was reported as complete at your Mid-Year Report and no additional updates are needed please skip the Annual Report Response Section. Otherwise, complete the Annual Report Response section and replace this bracketed text with your Progress Report]
B48: Initial Report Response | F48: Mid-Year Report Response | O48: Annual Report Response
B49: Action Item 3: | F49: Action Item 3: | M49: IF changes are made to the performance element impacts for this action item (in the table to the far right) please explain below. Otherwise leave blank. | O49: Action Item 3: | V49: IF changes are made to the performance element impacts (in the table to the right) for this action item please explain below. Otherwise leave blank. | X49: Action Item 3: | Y49: Objective 1 | Z49: Objective 1a | AA49: Objective 1b | AB49: Objective 1c | AC49: Objective 1d | AD49: Objective 1e | AE49: Objective 2 | AF49: Objective 3 | AG49: Objective 4 | AH49: Objective 5 | AI49: Objective 6 | AJ49: Objective 11 | AK49: NOA Reporting Element 1 | AL49: NOA Reporting Element 2 | AM49: NOA Reporting Element 3 | AN49: NOA Reporting Element 4 | AO49: NOA Reporting Element 5 | AP49: NOA Reporting Element 6 | AQ49: NOA Reporting Element 7 | AR49: NOA Reporting Element 8 | AS49: NOA Reporting Element 9
B50: Planned Start Date | F50: Actual Start Date | I50: Action Item Status | K50: Select | O50: Actual Start Date | R50: Action Item Status | T50: Select | X50: Impacts at Initial Report | AU50: =Y50 -> 0 | AV50: =Z50 -> 0 | AW50: =AA50 -> 0 | AX50: =AB50 -> 0 | AY50: =AC50 -> 0 | AZ50: =AE50 -> 0 | BA50: =AF50 -> 0 | BB50: =AG50 -> 0 | BC50: =AH50 -> 0 | BD50: =AI50 -> 0 | BE50: =AJ50 -> 0 | BF50: =AK50 -> 0 | BG50: =AL50 -> 0 | BH50: =AM50 -> 0 | BI50: =AO50 -> 0 | BJ50: =AP50 -> 0 | BK50: =AQ50 -> 0 | BL50: =AR50 -> 0 | BM50: =AS50 -> 0 | BN50: =Y51 -> 0 | BO50: =Z51 -> 0 | BP50: =AA51 -> 0 | BQ50: =AB51 -> 0 | BR50: =AC51 -> 0 | BS50: =AE51 -> 0 | BT50: =AF51 -> 0 | BU50: =AG51 -> 0 | BV50: =AH51 -> 0 | BW50: =AI51 -> 0 | BX50: =AJ51 -> 0 | BY50: =AK51 -> 0 | BZ50: =AL51 -> 0 | CA50: =AM51 -> 0 | CB50: =AO51 -> 0 | CC50: =AP51 -> 0 | CD50: =AQ51 -> 0 | CE50: =AR51 -> 0 | CF50: =AS51 -> 0 | CG50: =Y52 -> 0 | CH50: =Z52 -> 0 | CI50: =AA52 -> 0 | CJ50: =AB52 -> 0 | CK50: =AC52 -> 0 | CL50: =AE52 -> 0 | CM50: =AF52 -> 0 | CN50: =AG52 -> 0 | CO50: =AH52 -> 0 | CP50: =AI52 -> 0 | CQ50: =AJ52 -> 0 | CR50: =AK52 -> 0 | CS50: =AL52 -> 0 | CT50: =AM52 -> 0 | CU50: =AO52 -> 0 | CV50: =AP52 -> 0 | CW50: =AQ52 -> 0 | CX50: =AR52 -> 0 | CY50: =AS52 -> 0 | CZ50: ='Coversheet'!$D$5 -> 0 | DA50: ='Coversheet'!$D$6 -> 0 | DB50: ='Coversheet'!$H$15 -> 0 | DC50: ='Coversheet'!$G$15 -> 0 | DD50: ='Coversheet'!$G$16 -> 0 | DE50: ='Coversheet'!$D$12 -> 0 | DF50: =D50 -> 0 | DG50: =D51 -> 0 | DH50: =B53 -> 0 | DI50: null | DK50: null | DL50: null | DM50: =H50 -> 0 | DN50: =H51 -> 0 | DO50: =K50 -> Select | DP50: =L51 -> Select | DQ50: =F53 -> 0 | DR50: =M53 -> 0 | DS50: =Q50 -> 0 | DT50: =Q51 -> 0 | DU50: =T50 -> Select | DV50: =U51 -> Select | DW50: =O53 -> [If this Plan of Action was reported as complete at your Mid-Year Report and no additional updates are needed please skip the Annual Report Response Section. Otherwise, complete the Annual Report Response section and replace this bracketed text with your Progress Report] | DX50: =V53 -> 0 | DY50: 3
B51: Planned End Date | F51: Actual End Date | I51: Action Item Percent Complete | L51: Select | O51: Actual End Date | R51: Action Item Percent Complete | U51: Select | X51: Impacts at Mid-Year Report | CZ51: ='Coversheet'!$D$5 -> 0 | DA51: ='Coversheet'!$D$6 -> 0 | DB51: ='Coversheet'!$H$15 -> 0 | DC51: ='Coversheet'!$G$15 -> 0 | DD51: ='Coversheet'!$G$16 -> 0 | DE51: ='Coversheet'!$D$12 -> 0 | DY51: 3
B52: Planned Action Item Short Description | F52: Mid-Year Progress Report (Use Alt+Enter for new line if desired) | O52: Annual Progress Report (Use Alt+Enter for Actual line if desired) | X52: Impacts at Annual Report | CZ52: ='Coversheet'!$D$5 -> 0 | DA52: ='Coversheet'!$D$6 -> 0 | DB52: ='Coversheet'!$H$15 -> 0 | DC52: ='Coversheet'!$G$15 -> 0 | DD52: ='Coversheet'!$G$16 -> 0 | DE52: ='Coversheet'!$D$12 -> 0 | DY52: 3
O53: [If this Plan of Action was reported as complete at your Mid-Year Report and no additional updates are needed please skip the Annual Report Response Section. Otherwise, complete the Annual Report Response section and replace this bracketed text with your Progress Report]
B56: Initial Report Response | F56: Mid-Year Report Response | O56: Annual Report Response
B57: Action Item 4: | F57: Action Item 4: | M57: IF changes are made to the performance element impacts for this action item (in the table to the far right) please explain below. Otherwise leave blank. | O57: Action Item 4: | V57: IF changes are made to the performance element impacts (in the table to the right) for this action item please explain below. Otherwise leave blank. | X57: Action Item 4: | Y57: Objective 1 | Z57: Objective 1a | AA57: Objective 1b | AB57: Objective 1c | AC57: Objective 1d | AD57: Objective 1e | AE57: Objective 2 | AF57: Objective 3 | AG57: Objective 4 | AH57: Objective 5 | AI57: Objective 6 | AJ57: Objective 11 | AK57: NOA Reporting Element 1 | AL57: NOA Reporting Element 2 | AM57: NOA Reporting Element 3 | AN57: NOA Reporting Element 4 | AO57: NOA Reporting Element 5 | AP57: NOA Reporting Element 6 | AQ57: NOA Reporting Element 7 | AR57: NOA Reporting Element 8 | AS57: NOA Reporting Element 9
B58: Planned Start Date | F58: Actual Start Date | I58: Action Item Status | K58: Select | O58: Actual Start Date | R58: Action Item Status | T58: Select | X58: Impacts at Initial Report | AU58: =Y58 -> 0 | AV58: =Z58 -> 0 | AW58: =AA58 -> 0 | AX58: =AB58 -> 0 | AY58: =AC58 -> 0 | AZ58: =AE58 -> 0 | BA58: =AF58 -> 0 | BB58: =AG58 -> 0 | BC58: =AH58 -> 0 | BD58: =AI58 -> 0 | BE58: =AJ58 -> 0 | BF58: =AK58 -> 0 | BG58: =AL58 -> 0 | BH58: =AM58 -> 0 | BI58: =AO58 -> 0 | BJ58: =AP58 -> 0 | BK58: =AQ58 -> 0 | BL58: =AR58 -> 0 | BM58: =AS58 -> 0 | BN58: =Y59 -> 0 | BO58: =Z59 -> 0 | BP58: =AA59 -> 0 | BQ58: =AB59 -> 0 | BR58: =AC59 -> 0 | BS58: =AE59 -> 0 | BT58: =AF59 -> 0 | BU58: =AG59 -> 0 | BV58: =AH59 -> 0 | BW58: =AI59 -> 0 | BX58: =AJ59 -> 0 | BY58: =AK59 -> 0 | BZ58: =AL59 -> 0 | CA58: =AM59 -> 0 | CB58: =AO59 -> 0 | CC58: =AP59 -> 0 | CD58: =AQ59 -> 0 | CE58: =AR59 -> 0 | CF58: =AS59 -> 0 | CG58: =Y60 -> 0 | CH58: =Z60 -> 0 | CI58: =AA60 -> 0 | CJ58: =AB60 -> 0 | CK58: =AC60 -> 0 | CL58: =AE60 -> 0 | CM58: =AF60 -> 0 | CN58: =AG60 -> 0 | CO58: =AH60 -> 0 | CP58: =AI60 -> 0 | CQ58: =AJ60 -> 0 | CR58: =AK60 -> 0 | CS58: =AL60 -> 0 | CT58: =AM60 -> 0 | CU58: =AO60 -> 0 | CV58: =AP60 -> 0 | CW58: =AQ60 -> 0 | CX58: =AR60 -> 0 | CY58: =AS60 -> 0 | CZ58: ='Coversheet'!$D$5 -> 0 | DA58: ='Coversheet'!$D$6 -> 0 | DB58: ='Coversheet'!$H$15 -> 0 | DC58: ='Coversheet'!$G$15 -> 0 | DD58: ='Coversheet'!$G$16 -> 0 | DE58: ='Coversheet'!$D$12 -> 0 | DF58: =D58 -> 0 | DG58: =D59 -> 0 | DH58: =B61 -> 0 | DI58: null | DK58: null | DL58: null | DM58: =H58 -> 0 | DN58: =H59 -> 0 | DO58: =K58 -> Select | DP58: =L59 -> Select | DQ58: =F61 -> 0 | DR58: =M61 -> 0 | DS58: =Q58 -> 0 | DT58: =Q59 -> 0 | DU58: =T58 -> Select | DV58: =U59 -> Select | DW58: =O61 -> [If this Plan of Action was reported as complete at your Mid-Year Report and no additional updates are needed please skip the Annual Report Response Section. Otherwise, complete the Annual Report Response section and replace this bracketed text with your Progress Report] | DX58: =V61 -> 0 | DY58: 4
B59: Planned End Date | F59: Actual End Date | I59: Action Item Percent Complete | L59: Select | O59: Actual End Date | R59: Action Item Percent Complete | U59: Select | X59: Impacts at Mid-Year Report | CZ59: ='Coversheet'!$D$5 -> 0 | DA59: ='Coversheet'!$D$6 -> 0 | DB59: ='Coversheet'!$H$15 -> 0 | DC59: ='Coversheet'!$G$15 -> 0 | DD59: ='Coversheet'!$G$16 -> 0 | DE59: ='Coversheet'!$D$12 -> 0 | DY59: 4
B60: Planned Action Item Short Description | F60: Mid-Year Progress Report (Use Alt+Enter for new line if desired) | O60: Annual Progress Report (Use Alt+Enter for Actual line if desired) | X60: Impacts at Annual Report | CZ60: ='Coversheet'!$D$5 -> 0 | DA60: ='Coversheet'!$D$6 -> 0 | DB60: ='Coversheet'!$H$15 -> 0 | DC60: ='Coversheet'!$G$15 -> 0 | DD60: ='Coversheet'!$G$16 -> 0 | DE60: ='Coversheet'!$D$12 -> 0 | DY60: 4
O61: [If this Plan of Action was reported as complete at your Mid-Year Report and no additional updates are needed please skip the Annual Report Response Section. Otherwise, complete the Annual Report Response section and replace this bracketed text with your Progress Report]
B64: Initial Report Response | F64: Mid-Year Report Response | O64: Annual Report Response
B65: Action Item 5: | F65: Action Item 5: | M65: IF changes are made to the performance element impacts for this action item (in the table to the far right) please explain below. Otherwise leave blank. | O65: Action Item 5: | V65: IF changes are made to the performance element impacts (in the table to the right) for this action item please explain below. Otherwise leave blank. | X65: Action Item 5: | Y65: Objective 1 | Z65: Objective 1a | AA65: Objective 1b | AB65: Objective 1c | AC65: Objective 1d | AD65: Objective 1e | AE65: Objective 2 | AF65: Objective 3 | AG65: Objective 4 | AH65: Objective 5 | AI65: Objective 6 | AJ65: Objective 11 | AK65: NOA Reporting Element 1 | AL65: NOA Reporting Element 2 | AM65: NOA Reporting Element 3 | AN65: NOA Reporting Element 4 | AO65: NOA Reporting Element 5 | AP65: NOA Reporting Element 6 | AQ65: NOA Reporting Element 7 | AR65: NOA Reporting Element 8 | AS65: NOA Reporting Element 9
B66: Planned Start Date | F66: Actual Start Date | I66: Action Item Status | K66: Select | O66: Actual Start Date | R66: Action Item Status | T66: Select | X66: Impacts at Initial Report | AU66: =Y66 -> 0 | AV66: =Z66 -> 0 | AW66: =AA66 -> 0 | AX66: =AB66 -> 0 | AY66: =AC66 -> 0 | AZ66: =AE66 -> 0 | BA66: =AF66 -> 0 | BB66: =AG66 -> 0 | BC66: =AH66 -> 0 | BD66: =AI66 -> 0 | BE66: =AJ66 -> 0 | BF66: =AK66 -> 0 | BG66: =AL66 -> 0 | BH66: =AM66 -> 0 | BI66: =AO66 -> 0 | BJ66: =AP66 -> 0 | BK66: =AQ66 -> 0 | BL66: =AR66 -> 0 | BM66: =AS66 -> 0 | BN66: =Y67 -> 0 | BO66: =Z67 -> 0 | BP66: =AA67 -> 0 | BQ66: =AB67 -> 0 | BR66: =AC67 -> 0 | BS66: =AE67 -> 0 | BT66: =AF67 -> 0 | BU66: =AG67 -> 0 | BV66: =AH67 -> 0 | BW66: =AI67 -> 0 | BX66: =AJ67 -> 0 | BY66: =AK67 -> 0 | BZ66: =AL67 -> 0 | CA66: =AM67 -> 0 | CB66: =AO67 -> 0 | CC66: =AP67 -> 0 | CD66: =AQ67 -> 0 | CE66: =AR67 -> 0 | CF66: =AS67 -> 0 | CG66: =Y68 -> 0 | CH66: =Z68 -> 0 | CI66: =AA68 -> 0 | CJ66: =AB68 -> 0 | CK66: =AC68 -> 0 | CL66: =AE68 -> 0 | CM66: =AF68 -> 0 | CN66: =AG68 -> 0 | CO66: =AH68 -> 0 | CP66: =AI68 -> 0 | CQ66: =AJ68 -> 0 | CR66: =AK68 -> 0 | CS66: =AL68 -> 0 | CT66: =AM68 -> 0 | CU66: =AO68 -> 0 | CV66: =AP68 -> 0 | CW66: =AQ68 -> 0 | CX66: =AR68 -> 0 | CY66: =AS68 -> 0 | CZ66: ='Coversheet'!$D$5 -> 0 | DA66: ='Coversheet'!$D$6 -> 0 | DB66: ='Coversheet'!$H$15 -> 0 | DC66: ='Coversheet'!$G$15 -> 0 | DD66: ='Coversheet'!$G$16 -> 0 | DE66: ='Coversheet'!$D$12 -> 0 | DF66: =D66 -> 0 | DG66: =D67 -> 0 | DH66: =B69 -> 0 | DI66: null | DK66: null | DL66: null | DM66: =H66 -> 0 | DN66: =H67 -> 0 | DO66: =K66 -> Select | DP66: =L67 -> Select | DQ66: =F69 -> 0 | DR66: =M69 -> 0 | DS66: =Q66 -> 0 | DT66: =Q67 -> 0 | DU66: =T66 -> Select | DV66: =U67 -> Select | DW66: =O69 -> [If this Plan of Action was reported as complete at your Mid-Year Report and no additional updates are needed please skip the Annual Report Response Section. Otherwise, complete the Annual Report Response section and replace this bracketed text with your Progress Report] | DX66: =V69 -> 0 | DY66: 5
B67: Planned End Date | F67: Actual End Date | I67: Action Item Percent Complete | L67: Select | O67: Actual End Date | R67: Action Item Percent Complete | U67: Select | X67: Impacts at Mid-Year Report | CZ67: ='Coversheet'!$D$5 -> 0 | DA67: ='Coversheet'!$D$6 -> 0 | DB67: ='Coversheet'!$H$15 -> 0 | DC67: ='Coversheet'!$G$15 -> 0 | DD67: ='Coversheet'!$G$16 -> 0 | DE67: ='Coversheet'!$D$12 -> 0 | DY67: 5
B68: Planned Action Item Short Description | F68: Mid-Year Progress Report (Use Alt+Enter for new line if desired) | O68: Annual Progress Report (Use Alt+Enter for Actual line if desired) | X68: Impacts at Annual Report | CZ68: ='Coversheet'!$D$5 -> 0 | DA68: ='Coversheet'!$D$6 -> 0 | DB68: ='Coversheet'!$H$15 -> 0 | DC68: ='Coversheet'!$G$15 -> 0 | DD68: ='Coversheet'!$G$16 -> 0 | DE68: ='Coversheet'!$D$12 -> 0 | DY68: 5
O69: [If this Plan of Action was reported as complete at your Mid-Year Report and no additional updates are needed please skip the Annual Report Response Section. Otherwise, complete the Annual Report Response section and replace this bracketed text with your Progress Report]
B72: Initial Report Response | F72: Mid-Year Report Response | O72: Annual Report Response
B73: Action Item 6: | F73: Action Item 6: | M73: IF changes are made to the performance element impacts for this action item (in the table to the far right) please explain below. Otherwise leave blank. | O73: Action Item 6: | V73: IF changes are made to the performance element impacts (in the table to the right) for this action item please explain below. Otherwise leave blank. | X73: Action Item 6: | Y73: Objective 1 | Z73: Objective 1a | AA73: Objective 1b | AB73: Objective 1c | AC73: Objective 1d | AD73: Objective 1e | AE73: Objective 2 | AF73: Objective 3 | AG73: Objective 4 | AH73: Objective 5 | AI73: Objective 6 | AJ73: Objective 11 | AK73: NOA Reporting Element 1 | AL73: NOA Reporting Element 2 | AM73: NOA Reporting Element 3 | AN73: NOA Reporting Element 4 | AO73: NOA Reporting Element 5 | AP73: NOA Reporting Element 6 | AQ73: NOA Reporting Element 7 | AR73: NOA Reporting Element 8 | AS73: NOA Reporting Element 9
B74: Planned Start Date | F74: Actual Start Date | I74: Action Item Status | K74: Select | O74: Actual Start Date | R74: Action Item Status | T74: Select | X74: Impacts at Initial Report | AU74: =Y74 -> 0 | AV74: =Z74 -> 0 | AW74: =AA74 -> 0 | AX74: =AB74 -> 0 | AY74: =AC74 -> 0 | AZ74: =AE74 -> 0 | BA74: =AF74 -> 0 | BB74: =AG74 -> 0 | BC74: =AH74 -> 0 | BD74: =AI74 -> 0 | BE74: =AJ74 -> 0 | BF74: =AK74 -> 0 | BG74: =AL74 -> 0 | BH74: =AM74 -> 0 | BI74: =AO74 -> 0 | BJ74: =AP74 -> 0 | BK74: =AQ74 -> 0 | BL74: =AR74 -> 0 | BM74: =AS74 -> 0 | BN74: =Y75 -> 0 | BO74: =Z75 -> 0 | BP74: =AA75 -> 0 | BQ74: =AB75 -> 0 | BR74: =AC75 -> 0 | BS74: =AE75 -> 0 | BT74: =AF75 -> 0 | BU74: =AG75 -> 0 | BV74: =AH75 -> 0 | BW74: =AI75 -> 0 | BX74: =AJ75 -> 0 | BY74: =AK75 -> 0 | BZ74: =AL75 -> 0 | CA74: =AM75 -> 0 | CB74: =AO75 -> 0 | CC74: =AP75 -> 0 | CD74: =AQ75 -> 0 | CE74: =AR75 -> 0 | CF74: =AS75 -> 0 | CG74: =Y76 -> 0 | CH74: =Z76 -> 0 | CI74: =AA76 -> 0 | CJ74: =AB76 -> 0 | CK74: =AC76 -> 0 | CL74: =AE76 -> 0 | CM74: =AF76 -> 0 | CN74: =AG76 -> 0 | CO74: =AH76 -> 0 | CP74: =AI76 -> 0 | CQ74: =AJ76 -> 0 | CR74: =AK76 -> 0 | CS74: =AL76 -> 0 | CT74: =AM76 -> 0 | CU74: =AO76 -> 0 | CV74: =AP76 -> 0 | CW74: =AQ76 -> 0 | CX74: =AR76 -> 0 | CY74: =AS76 -> 0 | CZ74: ='Coversheet'!$D$5 -> 0 | DA74: ='Coversheet'!$D$6 -> 0 | DB74: ='Coversheet'!$H$15 -> 0 | DC74: ='Coversheet'!$G$15 -> 0 | DD74: ='Coversheet'!$G$16 -> 0 | DE74: ='Coversheet'!$D$12 -> 0 | DF74: =D74 -> 0 | DG74: =D75 -> 0 | DH74: =B77 -> 0 | DI74: null | DK74: null | DL74: null | DM74: =H74 -> 0 | DN74: =H75 -> 0 | DO74: =K74 -> Select | DP74: =L75 -> Select | DQ74: =F77 -> 0 | DR74: =M77 -> 0 | DS74: =Q74 -> 0 | DT74: =Q75 -> 0 | DU74: =T74 -> Select | DV74: =U75 -> Select | DW74: =O77 -> [If this Plan of Action was reported as complete at your Mid-Year Report and no additional updates are needed please skip the Annual Report Response Section. Otherwise, complete the Annual Report Response section and replace this bracketed text with your Progress Report] | DX74: =V77 -> 0 | DY74: 6
B75: Planned End Date | F75: Actual End Date | I75: Action Item Percent Complete | L75: Select | O75: Actual End Date | R75: Action Item Percent Complete | U75: Select | X75: Impacts at Mid-Year Report | CZ75: ='Coversheet'!$D$5 -> 0 | DA75: ='Coversheet'!$D$6 -> 0 | DB75: ='Coversheet'!$H$15 -> 0 | DC75: ='Coversheet'!$G$15 -> 0 | DD75: ='Coversheet'!$G$16 -> 0 | DE75: ='Coversheet'!$D$12 -> 0 | DY75: 6
B76: Planned Action Item Short Description | F76: Mid-Year Progress Report (Use Alt+Enter for new line if desired) | O76: Annual Progress Report (Use Alt+Enter for Actual line if desired) | X76: Impacts at Annual Report | CZ76: ='Coversheet'!$D$5 -> 0 | DA76: ='Coversheet'!$D$6 -> 0 | DB76: ='Coversheet'!$H$15 -> 0 | DC76: ='Coversheet'!$G$15 -> 0 | DD76: ='Coversheet'!$G$16 -> 0 | DE76: ='Coversheet'!$D$12 -> 0 | DY76: 6
O77: [If this Plan of Action was reported as complete at your Mid-Year Report and no additional updates are needed please skip the Annual Report Response Section. Otherwise, complete the Annual Report Response section and replace this bracketed text with your Progress Report]
B80: Initial Report Response | F80: Mid-Year Report Response | O80: Annual Report Response
B81: Action Item 7: | F81: Action Item 7: | M81: IF changes are made to the performance element impacts for this action item (in the table to the far right) please explain below. Otherwise leave blank. | O81: Action Item 7: | V81: IF changes are made to the performance element impacts (in the table to the right) for this action item please explain below. Otherwise leave blank. | X81: Action Item 7: | Y81: Objective 1 | Z81: Objective 1a | AA81: Objective 1b | AB81: Objective 1c | AC81: Objective 1d | AD81: Objective 1e | AE81: Objective 2 | AF81: Objective 3 | AG81: Objective 4 | AH81: Objective 5 | AI81: Objective 6 | AJ81: Objective 11 | AK81: NOA Reporting Element 1 | AL81: NOA Reporting Element 2 | AM81: NOA Reporting Element 3 | AN81: NOA Reporting Element 4 | AO81: NOA Reporting Element 5 | AP81: NOA Reporting Element 6 | AQ81: NOA Reporting Element 7 | AR81: NOA Reporting Element 8 | AS81: NOA Reporting Element 9
...

Sheet AddlQuestions
B18: Mid-Year Report Public Heath Impacts | I18: Annual Report Public Heath Impacts
O27: AddlQuestions | P27: Mid-Year AddlQuestion Response | Q27: Annual AddlQuestionResponse | R27: AddlQuestion Category | S27: OPEI | T27: Standard Name | U27: FY | V27: Entity Name
B29: Mid-Year: Please describe the public health impact of your activities under this cooperative agreement. | I29: Annual Report: Please describe the public health impact of your activities under this cooperative agreement. | O29: Please describe the public health impact of your activities under this cooperative agreement. | P29: =B30 -> 0 | Q29: =I30 -> 0 | R29: Public Health | S29: ='Coversheet'!$D$5 -> 0 | T29: ='Coversheet'!$D$6 -> 0 | U29: ='Coversheet'!$H$15 -> 0 | V29: ='Coversheet'!$D$12 -> 0
B32: Mid-Year: Please describe how your activities have facilitated long-term improvements to the national food safety system under this cooperative agreement. | I32: Annual Report: Please describe how your activities have facilitated long-term improvements to the national food safety system under this cooperative agreement. | O32: Please describe how your activities have facilitated long-term improvements to the national food safety system under this cooperative agreement. | P32: =B33 -> 0 | Q32: =I33 -> 0 | R32: Public Health | S32: ='Coversheet'!$D$5 -> 0 | T32: ='Coversheet'!$D$6 -> 0 | U32: ='Coversheet'!$H$15 -> 0 | V32: ='Coversheet'!$D$12 -> 0
B35: Mid-Year Report Optional Questions | I35: Annual Report Optional Questions
B37: Mid-Year: Please share any highlights or success stories related to this project. Include links to additional information (website, news articles, etc.) when applicable. | I37: Annual Report: Please share any highlights or success stories related to this project. Include links to additional information (website, news articles, etc.) when applicable. | O37: Please share any highlights or success stories related to this project. Include links to additional information (website, news articles, etc.) when applicable. | P37: =B38 -> 0 | Q37: =I38 -> 0 | R37: Other Outcomes | S37: ='Coversheet'!$D$5 -> 0 | T37: ='Coversheet'!$D$6 -> 0 | U37: ='Coversheet'!$H$15 -> 0 | V37: ='Coversheet'!$D$12 -> 0
B40: Mid-Year: Please describe any other relevant outcomes not reported elsewhere (e.g. your interpretation of project results). | I40: Annual Report: Please describe any other relevant outcomes not reported elsewhere (e.g. your interpretation of project results). | O40: Please describe any other relevant outcomes not reported elsewhere (e.g. your interpretation of project results). | P40: =B41 -> 0 | Q40: =I41 -> 0 | R40: Other Outcomes | S40: ='Coversheet'!$D$5 -> 0 | T40: ='Coversheet'!$D$6 -> 0 | U40: ='Coversheet'!$H$15 -> 0 | V40: ='Coversheet'!$D$12 -> 0

Sheet Personnel
B21: Mid-Year & Annual Personnel Report | H21: Annual Report Only
H22: Select appropriate response: | I22: Select | K22: Name | L22: Title | M22: Project Role | N22: Months Effort | O22: Months Funded | P22: Personnel Changes | Q22: Explanation | R22: OPEI | S22: Entity Name | T22: Standard Name | U22: FY
C23: Name (last name, first name) | D23: Title | E23: Project Role | F23: Total Project Effort (# calendar mos - Include effort funded by the CAP and in-kind contribution e.g., non-CAP funded) | G23: Months Funded (# calendar mos - include CAP funded effort only) | H23: Personnel Changes?* (key personnel changes must be submitted to eRA Commons and may require prior approval as described in your NOA) | I23: Explanation for significant personnel changes
B24: 1 | H24: Select | K24: =C24 -> 0 | L24: =D24 -> 0 | M24: =E24 -> 0 | N24: =F24 -> 0 | O24: =G24 -> 0 | P24: =H24 -> Select | Q24: =I24 -> 0 | R24: ='Coversheet'!$D$5 -> 0 | S24: ='Coversheet'!$D$12 -> 0 | T24: ='Coversheet'!$D$6 -> 0 | U24: ='Coversheet'!$H$15 -> 0
B25: 2 | H25: Select | K25: =C25 -> 0 | L25: =D25 -> 0 | M25: =E25 -> 0 | N25: =F25 -> 0 | O25: =G25 -> 0 | P25: =H25 -> Select | Q25: =I25 -> 0 | R25: ='Coversheet'!$D$5 -> 0 | S25: ='Coversheet'!$D$12 -> 0 | T25: ='Coversheet'!$D$6 -> 0 | U25: ='Coversheet'!$H$15 -> 0
B26: 3 | H26: Select | K26: =C26 -> 0 | L26: =D26 -> 0 | M26: =E26 -> 0 | N26: =F26 -> 0 | O26: =G26 -> 0 | P26: =H26 -> Select | Q26: =I26 -> 0 | R26: ='Coversheet'!$D$5 -> 0 | S26: ='Coversheet'!$D$12 -> 0 | T26: ='Coversheet'!$D$6 -> 0 | U26: ='Coversheet'!$H$15 -> 0
B27: 4 | H27: Select | K27: =C27 -> 0 | L27: =D27 -> 0 | M27: =E27 -> 0 | N27: =F27 -> 0 | O27: =G27 -> 0 | P27: =H27 -> Select | Q27: =I27 -> 0 | R27: ='Coversheet'!$D$5 -> 0 | S27: ='Coversheet'!$D$12 -> 0 | T27: ='Coversheet'!$D$6 -> 0 | U27: ='Coversheet'!$H$15 -> 0
B28: 5 | H28: Select | K28: =C28 -> 0 | L28: =D28 -> 0 | M28: =E28 -> 0 | N28: =F28 -> 0 | O28: =G28 -> 0 | P28: =H28 -> Select | Q28: =I28 -> 0 | R28: ='Coversheet'!$D$5 -> 0 | S28: ='Coversheet'!$D$12 -> 0 | T28: ='Coversheet'!$D$6 -> 0 | U28: ='Coversheet'!$H$15 -> 0
B29: 6 | H29: Select | K29: =C29 -> 0 | L29: =D29 -> 0 | M29: =E29 -> 0 | N29: =F29 -> 0 | O29: =G29 -> 0 | P29: =H29 -> Select | Q29: =I29 -> 0 | R29: ='Coversheet'!$D$5 -> 0 | S29: ='Coversheet'!$D$12 -> 0 | T29: ='Coversheet'!$D$6 -> 0 | U29: ='Coversheet'!$H$15 -> 0
B30: 7 | H30: Select | K30: =C30 -> 0 | L30: =D30 -> 0 | M30: =E30 -> 0 | N30: =F30 -> 0 | O30: =G30 -> 0 | P30: =H30 -> Select | Q30: =I30 -> 0 | R30: ='Coversheet'!$D$5 -> 0 | S30: ='Coversheet'!$D$12 -> 0 | T30: ='Coversheet'!$D$6 -> 0 | U30: ='Coversheet'!$H$15 -> 0
B31: 8 | H31: Select | K31: =C31 -> 0 | L31: =D31 -> 0 | M31: =E31 -> 0 | N31: =F31 -> 0 | O31: =G31 -> 0 | P31: =H31 -> Select | Q31: =I31 -> 0 | R31: ='Coversheet'!$D$5 -> 0 | S31: ='Coversheet'!$D$12 -> 0 | T31: ='Coversheet'!$D$6 -> 0 | U31: ='Coversheet'!$H$15 -> 0
B32: 9 | H32: Select | K32: =C32 -> 0 | L32: =D32 -> 0 | M32: =E32 -> 0 | N32: =F32 -> 0 | O32: =G32 -> 0 | P32: =H32 -> Select | Q32: =I32 -> 0 | R32: ='Coversheet'!$D$5 -> 0 | S32: ='Coversheet'!$D$12 -> 0 | T32: ='Coversheet'!$D$6 -> 0 | U32: ='Coversheet'!$H$15 -> 0
B33: 10 | H33: Select | K33: =C33 -> 0 | L33: =D33 -> 0 | M33: =E33 -> 0 | N33: =F33 -> 0 | O33: =G33 -> 0 | P33: =H33 -> Select | Q33: =I33 -> 0 | R33: ='Coversheet'!$D$5 -> 0 | S33: ='Coversheet'!$D$12 -> 0 | T33: ='Coversheet'!$D$6 -> 0 | U33: ='Coversheet'!$H$15 -> 0
B34: 11 | H34: Select | K34: =C34 -> 0 | L34: =D34 -> 0 | M34: =E34 -> 0 | N34: =F34 -> 0 | O34: =G34 -> 0 | P34: =H34 -> Select | Q34: =I34 -> 0 | R34: ='Coversheet'!$D$5 -> 0 | S34: ='Coversheet'!$D$12 -> 0 | T34: ='Coversheet'!$D$6 -> 0 | U34: ='Coversheet'!$H$15 -> 0
B35: 12 | H35: Select | K35: =C35 -> 0 | L35: =D35 -> 0 | M35: =E35 -> 0 | N35: =F35 -> 0 | O35: =G35 -> 0 | P35: =H35 -> Select | Q35: =I35 -> 0 | R35: ='Coversheet'!$D$5 -> 0 | S35: ='Coversheet'!$D$12 -> 0 | T35: ='Coversheet'!$D$6 -> 0 | U35: ='Coversheet'!$H$15 -> 0
... B58: 35 | H58: Select | K58: =C58 -> 0 | L58: =D58 -> 0 | M58: =E58 -> 0 | N58: =F58 -> 0 | O58: =G58 -> 0 | P58: =H58 -> Select | Q58: =I58 -> 0 | R58: ='Coversheet'!$D$5 -> 0 | S58: ='Coversheet'!$D$12 -> 0 | T58: ='Coversheet'!$D$6 -> 0 | U58: ='Coversheet'!$H$15 -> 0
H59: *If adding or removing personnel please update their name, title, project role, and months funded as applicable. | P59: =I22 -> Select | R59: ='Coversheet'!$D$5 -> 0 | S59: ='Coversheet'!$D$12 -> 0 | T59: ='Coversheet'!$D$6 -> 0 | U59: ='Coversheet'!$H$15 -> 0

Sheet Budget
B29: Mid-Year and Annual Budget Report
B31: *Note: Annual Total Budgeted is pre-set equal to Mid-Year Total budgeted and Mid-Year and Annual Projected expenses are pre-set as calculated using the Total Budgeted minus Expended. These formulas should be cleared and actual numbers entered if different.
C32: Expenses | D32: Mid-Year Total Budgeted | E32: Annual Total Budgeted* | F32: Mid-Year Expended to Date | G32: Annual Expended to Date | H32: Mid-Year Projected Expenses* | I32: Annual Projected Expenses* | O32: Budget Questions | P32: MY Budget Numerical Responses | Q32: Annual Budget Numerical Responses | R32: MY Budget Text Responses | S32: Annual Budget Text Responses | T32: Expenses | U32: MY Total Budgeted | V32: Annual Total Budgeted | W32: MY Expended to Date | X32: Annual Expended to Date | Y32: My Projected Expenses | Z32: Annual Projected Expenses | AA32: Standard Name | AB32: FY | AC32: OPEI | AD32: Entity Name
B33: 1 | C33: Total Salary, Wages, and Fringe Benefits | D33: 0 | E33: =D33 -> 0 | F33: 0 | G33: 0 | H33: =D33-F33 -> 0 | I33: =E33-G33 -> 0
B34: 2 | C34: Equipment | D34: 0 | E34: =D34 -> 0 | F34: 0 | G34: 0 | H34: =D34-F34 -> 0 | I34: =E34-G34 -> 0 | O34: Total Budget: Total Budgeted | P34: =D47 -> 0 | Q34: =E47 -> 0 | T34: =C33 -> Total Salary, Wages, and Fringe Benefits | U34: =D33 -> 0 | V34: =E33 -> 0 | W34: =F33 -> 0 | X34: =G33 -> 0 | Y34: =H33 -> 0 | Z34: =I33 -> 0 | AA34: NEHA | AB34: FY23 | AC34: 76 | AD34: NEHA
B35: 3 | C35: Travel | D35: 0 | E35: =D35 -> 0 | F35: 0 | G35: 0 | H35: =D35-F35 -> 0 | I35: =E35-G35 -> 0 | O35: Total Budget: Expended to Date | P35: =F47 -> 0 | Q35: =G47 -> 0 | T35: =C34 -> Equipment | U35: =D34 -> 0 | V35: =E34 -> 0 | W35: =F34 -> 0 | X35: =G34 -> 0 | Y35: =H34 -> 0 | Z35: =I34 -> 0 | AA35: NEHA | AB35: FY23 | AC35: 76 | AD35: NEHA
B36: 4 | C36: Materials and Supplies | D36: 0 | E36: =D36 -> 0 | F36: 0 | G36: 0 | H36: =D36-F36 -> 0 | I36: =E36-G36 -> 0 | O36: Total Budget: Total Projected Expenses | P36: =H47 -> 0 | Q36: =I47 -> 0 | T36: =C35 -> Travel | U36: =D35 -> 0 | V36: =E35 -> 0 | W36: =F35 -> 0 | X36: =G35 -> 0 | Y36: =H35 -> 0 | Z36: =I35 -> 0 | AA36: NEHA | AB36: FY23 | AC36: 76 | AD36: NEHA
B37: 5 | C37: Publication Costs | D37: 0 | E37: =D37 -> 0 | F37: 0 | G37: 0 | H37: =D37-F37 -> 0 | I37: =E37-G37 -> 0 | O37: Estimated current obligated funds | P37: =D48 -> 0 | Q37: =E48 -> 0 | T37: =C36 -> Materials and Supplies | U37: =D36 -> 0 | V37: =E36 -> 0 | W37: =F36 -> 0 | X37: =G36 -> 0 | Y37: =H36 -> 0 | Z37: =I36 -> 0 | AA37: NEHA | AB37: FY23 | AC37: 76 | AD37: NEHA
B38: 6 | C38: Consultant Services | D38: 0 | E38: =D38 -> 0 | F38: 0 | G38: 0 | H38: =D38-F38 -> 0 | I38: =E38-G38 -> 0 | O38: Carryover I will be requesting | P38: =D49 -> 0 | Q38: =E49 -> 0 | T38: =C37 -> Publication Costs | U38: =D37 -> 0 | V38: =E37 -> 0 | W38: =F37 -> 0 | X38: =G37 -> 0 | Y38: =H37 -> 0 | Z38: =I37 -> 0 | AA38: NEHA | AB38: FY23 | AC38: 76 | AD38: NEHA
B39: 7 | C39: ADP/Computer Services | D39: 0 | E39: =D39 -> 0 | F39: 0 | G39: 0 | H39: =D39-F39 -> 0 | I39: =E39-G39 -> 0 | O39: New funding request | P39: =D50 -> 0 | Q39: =E50 -> 0 | T39: =C38 -> Consultant Services | U39: =D38 -> 0 | V39: =E38 -> 0 | W39: =F38 -> 0 | X39: =G38 -> 0 | Y39: =H38 -> 0 | Z39: =I38 -> 0 | AA39: NEHA | AB39: FY23 | AC39: 76 | AD39: NEHA
B40: 8 | C40: Subawards/Contractual Costs | D40: 0 | E40: =D40 -> 0 | F40: 0 | G40: 0 | H40: =D40-F40 -> 0 | I40: =E40-G40 -> 0 | O40: Total Requested for next budget period | P40: =D51 -> 0 | Q40: =E51 -> 0 | T40: =C39 -> ADP/Computer Services | U40: =D39 -> 0 | V40: =E39 -> 0 | W40: =F39 -> 0 | X40: =G39 -> 0 | Y40: =H39 -> 0 | Z40: =I39 -> 0 | AA40: NEHA | AB40: FY23 | AC40: 76 | AD40: NEHA
B41: 9 | C41: Equipment/Facility Rental/User Fees | D41: 0 | E41: =D41 -> 0 | F41: 0 | G41: 0 | H41: =D41-F41 -> 0 | I41: =E41-G41 -> 0 | O41: Additional Budget Comments: | R41: =D53 -> 0 | S41: =G53 -> 0 | T41: =C40 -> Subawards/Contractual Costs | U41: =D40 -> 0 | V41: =E40 -> 0 | W41: =F40 -> 0 | X41: =G40 -> 0 | Y41: =H40 -> 0 | Z41: =I40 -> 0 | AA41: NEHA | AB41: FY23 | AC41: 76 | AD41: NEHA
B42: 10 | C42: Federal F&A (Indirect Costs) | D42: 0 | E42: =D42 -> 0 | F42: 0 | G42: 0 | H42: =D42-F42 -> 0 | I42: =E42-G42 -> 0 | T42: =C41 -> Equipment/Facility Rental/User Fees | U42: =D41 -> 0 | V42: =E41 -> 0 | W42: =F41 -> 0 | X42: =G41 -> 0 | Y42: =H41 -> 0 | Z42: =I41 -> 0 | AA42: NEHA | AB42: FY23 | AC42: 76 | AD42: NEHA
B43: 11 | C43: Other 1 [Replace only bracketed text] | D43: 0 | E43: =D43 -> 0 | F43: 0 | G43: 0 | H43: =D43-F43 -> 0 | I43: =E43-G43 -> 0 | T43: =C42 -> Federal F&A (Indirect Costs) | U43: =D42 -> 0 | V43: =E42 -> 0 | W43: =F42 -> 0 | X43: =G42 -> 0 | Y43: =H42 -> 0 | Z43: =I42 -> 0 | AA43: NEHA | AB43: FY23 | AC43: 76 | AD43: NEHA
B44: 12 | C44: Other 2 [Replace only bracketed text] | D44: 0 | E44: =D44 -> 0 | F44: 0 | G44: 0 | H44: =D44-F44 -> 0 | I44: =E44-G44 -> 0 | T44: =C43 -> Other 1 [Replace only bracketed text] | U44: =D43 -> 0 | V44: =E43 -> 0 | W44: =F43 -> 0 | X44: =G43 -> 0 | Y44: =H43 -> 0 | Z44: =I43 -> 0 | AA44: NEHA | AB44: FY23 | AC44: 76 | AD44: NEHA
B45: 13 | C45: Other 3 [Replace only bracketed text] | D45: 0 | E45: =D45 -> 0 | F45: 0 | G45: 0 | H45: =D45-F45 -> 0 | I45: =E45-G45 -> 0 | T45: =C44 -> Other 2 [Replace only bracketed text] | U45: =D44 -> 0 | V45: =E44 -> 0 | W45: =F44 -> 0 | X45: =G44 -> 0 | Y45: =H44 -> 0 | Z45: =I44 -> 0 | AA45: NEHA | AB45: FY23 | AC45: 76 | AD45: NEHA
B46: 14 | C46: Other 4 [Replace only bracketed text] | D46: 0 | E46: =D46 -> 0 | F46: 0 | G46: 0 | H46: =D46-F46 -> 0 | I46: =E46-G46 -> 0 | T46: =C45 -> Other 3 [Replace only bracketed text] | U46: =D45 -> 0 | V46: =E45 -> 0 | W46: =F45 -> 0 | X46: =G45 -> 0 | Y46: =H45 -> 0 | Z46: =I45 -> 0 | AA46: NEHA | AB46: FY23 | AC46: 76 | AD46: NEHA
B47: 15 | C47: Total Budget | D47: =SUM(D33:D46) -> 0 | E47: =SUM(E33:E46) -> 0 | F47: =SUM(F33:F46) -> 0 | G47: =SUM(G33:G46) -> 0 | H47: =SUM(H33:H46) -> 0 | I47: =SUM(I33:I46) -> 0 | T47: =C46 -> Other 4 [Replace only bracketed text] | U47: =D46 -> 0 | V47: =E46 -> 0 | W47: =F46 -> 0 | X47: =G46 -> 0 | Y47: =H46 -> 0 | Z47: =I46 -> 0 | AA47: NEHA | AB47: FY23 | AC47: 76 | AD47: NEHA
